BEGIN:VCALENDAR
VERSION:2.0
PRODID:-//Second Baptist Church of Ann Arbor - ECPv6.15.20//NONSGML v1.0//EN
CALSCALE:GREGORIAN
METHOD:PUBLISH
X-ORIGINAL-URL:https://sbcaa.org
X-WR-CALDESC:Events for Second Baptist Church of Ann Arbor
REFRESH-INTERVAL;VALUE=DURATION:PT1H
X-Robots-Tag:noindex
X-PUBLISHED-TTL:PT1H
BEGIN:VTIMEZONE
TZID:America/Detroit
BEGIN:DAYLIGHT
TZOFFSETFROM:-0500
TZOFFSETTO:-0400
TZNAME:EDT
DTSTART:20250309T070000
END:DAYLIGHT
BEGIN:STANDARD
TZOFFSETFROM:-0400
TZOFFSETTO:-0500
TZNAME:EST
DTSTART:20251102T060000
END:STANDARD
BEGIN:DAYLIGHT
TZOFFSETFROM:-0500
TZOFFSETTO:-0400
TZNAME:EDT
DTSTART:20260308T070000
END:DAYLIGHT
BEGIN:STANDARD
TZOFFSETFROM:-0400
TZOFFSETTO:-0500
TZNAME:EST
DTSTART:20261101T060000
END:STANDARD
BEGIN:DAYLIGHT
TZOFFSETFROM:-0500
TZOFFSETTO:-0400
TZNAME:EDT
DTSTART:20270314T070000
END:DAYLIGHT
BEGIN:STANDARD
TZOFFSETFROM:-0400
TZOFFSETTO:-0500
TZNAME:EST
DTSTART:20271107T060000
END:STANDARD
END:VTIMEZONE
BEGIN:VEVENT
DTSTART;TZID=America/Detroit:20260510T100000
DTEND;TZID=America/Detroit:20260510T120000
DTSTAMP:20260419T145909
CREATED:20260326T194806Z
LAST-MODIFIED:20260328T204427Z
UID:10000798-1778407200-1778414400@sbcaa.org
SUMMARY:Sunday Morning Worship
DESCRIPTION:Psalm 95:1 states “O come\, let us sing unto the Lord: ….”  Please join us each Sunday in person at 850 Red Oak\, Ann Arbor MI\, 48103.  Plenty of available spaces onsite for parking and come as you are.  Live streams are also available via YouTube or Facebook.
URL:https://sbcaa.org/event/sunday-morning-worship/2026-05-10/
LOCATION:Second Baptist Church of Ann Arbor\, 850 Red Oak Road\, Ann Arbor\, MI\, United States
ATTACH;FMTTYPE=image/jpeg:https://sbcaa.org/wp-content/uploads/2026/03/SBC-NEW-YT-BANNER-1920-x-1080-px-1.jpg
END:VEVENT
BEGIN:VEVENT
DTSTART;TZID=America/Detroit:20260513T070000
DTEND;TZID=America/Detroit:20260513T073000
DTSTAMP:20260419T145909
CREATED:20260326T184148Z
LAST-MODIFIED:20260327T105236Z
UID:10000015-1778655600-1778657400@sbcaa.org
SUMMARY:Wednesday Morning Check In
DESCRIPTION:Recharge your spiritual battery mid-week and join us by calling (302) 202-1102\, code 681750.\nMatthew 18:20 states that “For where two or three are gathered together in my name\, there am I in the midst of them”
URL:https://sbcaa.org/event/wednesday-morning-check-in/2026-05-13/
LOCATION:https://www.youtube.com/channel/UC1IR-bSbrAQd5I57px8K0MA/live
ATTACH;FMTTYPE=image/jpeg:https://sbcaa.org/wp-content/uploads/2021/03/WednesdayMorningCheckIn_YT_Graphic.jpg
ORGANIZER;CN="Dr. Steven J. Daniels%2C Sr.":MAILTO:pastor@sbcaa.org
END:VEVENT
BEGIN:VEVENT
DTSTART;TZID=America/Detroit:20260513T120000
DTEND;TZID=America/Detroit:20260513T130000
DTSTAMP:20260419T145910
CREATED:20260326T190628Z
LAST-MODIFIED:20260327T182419Z
UID:10000276-1778673600-1778677200@sbcaa.org
SUMMARY:Bible Study - noon
DESCRIPTION:
URL:https://sbcaa.org/event/bible-study-noon/2026-05-13/
LOCATION:https://sbcaa.org/event/bible-study-noon/2026-05-13/
ATTACH;FMTTYPE=image/jpeg:https://sbcaa.org/wp-content/uploads/2026/03/BibleStudy_Noon.jpg
END:VEVENT
BEGIN:VEVENT
DTSTART;TZID=America/Detroit:20260513T190000
DTEND;TZID=America/Detroit:20260513T200000
DTSTAMP:20260419T145910
CREATED:20260326T190826Z
LAST-MODIFIED:20260326T193520Z
UID:10000537-1778698800-1778702400@sbcaa.org
SUMMARY:Bible Study - evening
DESCRIPTION:
URL:https://sbcaa.org/event/bible-study-evening/2026-05-13/
LOCATION:https://sbcaa.org/event/bible-study-evening/2026-05-13/
ATTACH;FMTTYPE=image/jpeg:https://sbcaa.org/wp-content/uploads/2026/03/BibleStudy_Evening.jpg
END:VEVENT
BEGIN:VEVENT
DTSTART;TZID=America/Detroit:20260517T100000
DTEND;TZID=America/Detroit:20260517T120000
DTSTAMP:20260419T145910
CREATED:20260326T194806Z
LAST-MODIFIED:20260328T204427Z
UID:10000799-1779012000-1779019200@sbcaa.org
SUMMARY:Sunday Morning Worship
DESCRIPTION:Psalm 95:1 states “O come\, let us sing unto the Lord: ….”  Please join us each Sunday in person at 850 Red Oak\, Ann Arbor MI\, 48103.  Plenty of available spaces onsite for parking and come as you are.  Live streams are also available via YouTube or Facebook.
URL:https://sbcaa.org/event/sunday-morning-worship/2026-05-17/
LOCATION:Second Baptist Church of Ann Arbor\, 850 Red Oak Road\, Ann Arbor\, MI\, United States
ATTACH;FMTTYPE=image/jpeg:https://sbcaa.org/wp-content/uploads/2026/03/SBC-NEW-YT-BANNER-1920-x-1080-px-1.jpg
END:VEVENT
BEGIN:VEVENT
DTSTART;TZID=America/Detroit:20260520T070000
DTEND;TZID=America/Detroit:20260520T073000
DTSTAMP:20260419T145910
CREATED:20260326T184148Z
LAST-MODIFIED:20260327T105236Z
UID:10000016-1779260400-1779262200@sbcaa.org
SUMMARY:Wednesday Morning Check In
DESCRIPTION:Recharge your spiritual battery mid-week and join us by calling (302) 202-1102\, code 681750.\nMatthew 18:20 states that “For where two or three are gathered together in my name\, there am I in the midst of them”
URL:https://sbcaa.org/event/wednesday-morning-check-in/2026-05-20/
LOCATION:https://www.youtube.com/channel/UC1IR-bSbrAQd5I57px8K0MA/live
ATTACH;FMTTYPE=image/jpeg:https://sbcaa.org/wp-content/uploads/2021/03/WednesdayMorningCheckIn_YT_Graphic.jpg
ORGANIZER;CN="Dr. Steven J. Daniels%2C Sr.":MAILTO:pastor@sbcaa.org
END:VEVENT
BEGIN:VEVENT
DTSTART;TZID=America/Detroit:20260520T120000
DTEND;TZID=America/Detroit:20260520T130000
DTSTAMP:20260419T145910
CREATED:20260326T190628Z
LAST-MODIFIED:20260327T182419Z
UID:10000277-1779278400-1779282000@sbcaa.org
SUMMARY:Bible Study - noon
DESCRIPTION:
URL:https://sbcaa.org/event/bible-study-noon/2026-05-20/
LOCATION:https://sbcaa.org/event/bible-study-noon/2026-05-20/
ATTACH;FMTTYPE=image/jpeg:https://sbcaa.org/wp-content/uploads/2026/03/BibleStudy_Noon.jpg
END:VEVENT
BEGIN:VEVENT
DTSTART;TZID=America/Detroit:20260520T190000
DTEND;TZID=America/Detroit:20260520T200000
DTSTAMP:20260419T145910
CREATED:20260326T190826Z
LAST-MODIFIED:20260326T193520Z
UID:10000538-1779303600-1779307200@sbcaa.org
SUMMARY:Bible Study - evening
DESCRIPTION:
URL:https://sbcaa.org/event/bible-study-evening/2026-05-20/
LOCATION:https://sbcaa.org/event/bible-study-evening/2026-05-20/
ATTACH;FMTTYPE=image/jpeg:https://sbcaa.org/wp-content/uploads/2026/03/BibleStudy_Evening.jpg
END:VEVENT
BEGIN:VEVENT
DTSTART;TZID=America/Detroit:20260524T100000
DTEND;TZID=America/Detroit:20260524T120000
DTSTAMP:20260419T145910
CREATED:20260326T194806Z
LAST-MODIFIED:20260328T204427Z
UID:10000800-1779616800-1779624000@sbcaa.org
SUMMARY:Sunday Morning Worship
DESCRIPTION:Psalm 95:1 states “O come\, let us sing unto the Lord: ….”  Please join us each Sunday in person at 850 Red Oak\, Ann Arbor MI\, 48103.  Plenty of available spaces onsite for parking and come as you are.  Live streams are also available via YouTube or Facebook.
URL:https://sbcaa.org/event/sunday-morning-worship/2026-05-24/
LOCATION:Second Baptist Church of Ann Arbor\, 850 Red Oak Road\, Ann Arbor\, MI\, United States
ATTACH;FMTTYPE=image/jpeg:https://sbcaa.org/wp-content/uploads/2026/03/SBC-NEW-YT-BANNER-1920-x-1080-px-1.jpg
END:VEVENT
BEGIN:VEVENT
DTSTART;TZID=America/Detroit:20260527T070000
DTEND;TZID=America/Detroit:20260527T073000
DTSTAMP:20260419T145910
CREATED:20260326T184148Z
LAST-MODIFIED:20260327T105236Z
UID:10000017-1779865200-1779867000@sbcaa.org
SUMMARY:Wednesday Morning Check In
DESCRIPTION:Recharge your spiritual battery mid-week and join us by calling (302) 202-1102\, code 681750.\nMatthew 18:20 states that “For where two or three are gathered together in my name\, there am I in the midst of them”
URL:https://sbcaa.org/event/wednesday-morning-check-in/2026-05-27/
LOCATION:https://www.youtube.com/channel/UC1IR-bSbrAQd5I57px8K0MA/live
ATTACH;FMTTYPE=image/jpeg:https://sbcaa.org/wp-content/uploads/2021/03/WednesdayMorningCheckIn_YT_Graphic.jpg
ORGANIZER;CN="Dr. Steven J. Daniels%2C Sr.":MAILTO:pastor@sbcaa.org
END:VEVENT
BEGIN:VEVENT
DTSTART;TZID=America/Detroit:20260527T120000
DTEND;TZID=America/Detroit:20260527T130000
DTSTAMP:20260419T145911
CREATED:20260326T190628Z
LAST-MODIFIED:20260327T182419Z
UID:10000278-1779883200-1779886800@sbcaa.org
SUMMARY:Bible Study - noon
DESCRIPTION:
URL:https://sbcaa.org/event/bible-study-noon/2026-05-27/
LOCATION:https://sbcaa.org/event/bible-study-noon/2026-05-27/
ATTACH;FMTTYPE=image/jpeg:https://sbcaa.org/wp-content/uploads/2026/03/BibleStudy_Noon.jpg
END:VEVENT
BEGIN:VEVENT
DTSTART;TZID=America/Detroit:20260527T190000
DTEND;TZID=America/Detroit:20260527T200000
DTSTAMP:20260419T145911
CREATED:20260326T190826Z
LAST-MODIFIED:20260326T193520Z
UID:10000539-1779908400-1779912000@sbcaa.org
SUMMARY:Bible Study - evening
DESCRIPTION:
URL:https://sbcaa.org/event/bible-study-evening/2026-05-27/
LOCATION:https://sbcaa.org/event/bible-study-evening/2026-05-27/
ATTACH;FMTTYPE=image/jpeg:https://sbcaa.org/wp-content/uploads/2026/03/BibleStudy_Evening.jpg
END:VEVENT
BEGIN:VEVENT
DTSTART;TZID=America/Detroit:20260530T100000
DTEND;TZID=America/Detroit:20260530T120000
DTSTAMP:20260419T145911
CREATED:20260418T011059Z
LAST-MODIFIED:20260418T011059Z
UID:10001055-1780135200-1780142400@sbcaa.org
SUMMARY:Mental Health Awareness Seminar
DESCRIPTION:
URL:https://sbcaa.org/event/mental-health-awareness-seminar/
LOCATION:Second Baptist Church of Ann Arbor\, 850 Red Oak Road\, Ann Arbor\, MI\, United States
ATTACH;FMTTYPE=image/jpeg:https://sbcaa.org/wp-content/uploads/2026/04/SBCAA_MENTAL_HEALTH.jpg
END:VEVENT
BEGIN:VEVENT
DTSTART;TZID=America/Detroit:20260531T100000
DTEND;TZID=America/Detroit:20260531T120000
DTSTAMP:20260419T145911
CREATED:20260326T194806Z
LAST-MODIFIED:20260328T204427Z
UID:10000801-1780221600-1780228800@sbcaa.org
SUMMARY:Sunday Morning Worship
DESCRIPTION:Psalm 95:1 states “O come\, let us sing unto the Lord: ….”  Please join us each Sunday in person at 850 Red Oak\, Ann Arbor MI\, 48103.  Plenty of available spaces onsite for parking and come as you are.  Live streams are also available via YouTube or Facebook.
URL:https://sbcaa.org/event/sunday-morning-worship/2026-05-31/
LOCATION:Second Baptist Church of Ann Arbor\, 850 Red Oak Road\, Ann Arbor\, MI\, United States
ATTACH;FMTTYPE=image/jpeg:https://sbcaa.org/wp-content/uploads/2026/03/SBC-NEW-YT-BANNER-1920-x-1080-px-1.jpg
END:VEVENT
BEGIN:VEVENT
DTSTART;TZID=America/Detroit:20260603T070000
DTEND;TZID=America/Detroit:20260603T073000
DTSTAMP:20260419T145911
CREATED:20260326T184148Z
LAST-MODIFIED:20260327T105236Z
UID:10000018-1780470000-1780471800@sbcaa.org
SUMMARY:Wednesday Morning Check In
DESCRIPTION:Recharge your spiritual battery mid-week and join us by calling (302) 202-1102\, code 681750.\nMatthew 18:20 states that “For where two or three are gathered together in my name\, there am I in the midst of them”
URL:https://sbcaa.org/event/wednesday-morning-check-in/2026-06-03/
LOCATION:https://www.youtube.com/channel/UC1IR-bSbrAQd5I57px8K0MA/live
ATTACH;FMTTYPE=image/jpeg:https://sbcaa.org/wp-content/uploads/2021/03/WednesdayMorningCheckIn_YT_Graphic.jpg
ORGANIZER;CN="Dr. Steven J. Daniels%2C Sr.":MAILTO:pastor@sbcaa.org
END:VEVENT
BEGIN:VEVENT
DTSTART;TZID=America/Detroit:20260603T120000
DTEND;TZID=America/Detroit:20260603T130000
DTSTAMP:20260419T145911
CREATED:20260326T190628Z
LAST-MODIFIED:20260327T182419Z
UID:10000279-1780488000-1780491600@sbcaa.org
SUMMARY:Bible Study - noon
DESCRIPTION:
URL:https://sbcaa.org/event/bible-study-noon/2026-06-03/
LOCATION:https://sbcaa.org/event/bible-study-noon/2026-06-03/
ATTACH;FMTTYPE=image/jpeg:https://sbcaa.org/wp-content/uploads/2026/03/BibleStudy_Noon.jpg
END:VEVENT
BEGIN:VEVENT
DTSTART;TZID=America/Detroit:20260603T190000
DTEND;TZID=America/Detroit:20260603T200000
DTSTAMP:20260419T145911
CREATED:20260326T190826Z
LAST-MODIFIED:20260326T193520Z
UID:10000540-1780513200-1780516800@sbcaa.org
SUMMARY:Bible Study - evening
DESCRIPTION:
URL:https://sbcaa.org/event/bible-study-evening/2026-06-03/
LOCATION:https://sbcaa.org/event/bible-study-evening/2026-06-03/
ATTACH;FMTTYPE=image/jpeg:https://sbcaa.org/wp-content/uploads/2026/03/BibleStudy_Evening.jpg
END:VEVENT
BEGIN:VEVENT
DTSTART;TZID=America/Detroit:20260607T100000
DTEND;TZID=America/Detroit:20260607T120000
DTSTAMP:20260419T145911
CREATED:20260326T194806Z
LAST-MODIFIED:20260328T204427Z
UID:10000802-1780826400-1780833600@sbcaa.org
SUMMARY:Sunday Morning Worship
DESCRIPTION:Psalm 95:1 states “O come\, let us sing unto the Lord: ….”  Please join us each Sunday in person at 850 Red Oak\, Ann Arbor MI\, 48103.  Plenty of available spaces onsite for parking and come as you are.  Live streams are also available via YouTube or Facebook.
URL:https://sbcaa.org/event/sunday-morning-worship/2026-06-07/
LOCATION:Second Baptist Church of Ann Arbor\, 850 Red Oak Road\, Ann Arbor\, MI\, United States
ATTACH;FMTTYPE=image/jpeg:https://sbcaa.org/wp-content/uploads/2026/03/SBC-NEW-YT-BANNER-1920-x-1080-px-1.jpg
END:VEVENT
BEGIN:VEVENT
DTSTART;TZID=America/Detroit:20260610T070000
DTEND;TZID=America/Detroit:20260610T073000
DTSTAMP:20260419T145911
CREATED:20260326T184148Z
LAST-MODIFIED:20260327T105236Z
UID:10000019-1781074800-1781076600@sbcaa.org
SUMMARY:Wednesday Morning Check In
DESCRIPTION:Recharge your spiritual battery mid-week and join us by calling (302) 202-1102\, code 681750.\nMatthew 18:20 states that “For where two or three are gathered together in my name\, there am I in the midst of them”
URL:https://sbcaa.org/event/wednesday-morning-check-in/2026-06-10/
LOCATION:https://www.youtube.com/channel/UC1IR-bSbrAQd5I57px8K0MA/live
ATTACH;FMTTYPE=image/jpeg:https://sbcaa.org/wp-content/uploads/2021/03/WednesdayMorningCheckIn_YT_Graphic.jpg
ORGANIZER;CN="Dr. Steven J. Daniels%2C Sr.":MAILTO:pastor@sbcaa.org
END:VEVENT
BEGIN:VEVENT
DTSTART;TZID=America/Detroit:20260610T120000
DTEND;TZID=America/Detroit:20260610T130000
DTSTAMP:20260419T145912
CREATED:20260326T190628Z
LAST-MODIFIED:20260327T182419Z
UID:10000280-1781092800-1781096400@sbcaa.org
SUMMARY:Bible Study - noon
DESCRIPTION:
URL:https://sbcaa.org/event/bible-study-noon/2026-06-10/
LOCATION:https://sbcaa.org/event/bible-study-noon/2026-06-10/
ATTACH;FMTTYPE=image/jpeg:https://sbcaa.org/wp-content/uploads/2026/03/BibleStudy_Noon.jpg
END:VEVENT
BEGIN:VEVENT
DTSTART;TZID=America/Detroit:20260610T190000
DTEND;TZID=America/Detroit:20260610T200000
DTSTAMP:20260419T145912
CREATED:20260326T190826Z
LAST-MODIFIED:20260326T193520Z
UID:10000541-1781118000-1781121600@sbcaa.org
SUMMARY:Bible Study - evening
DESCRIPTION:
URL:https://sbcaa.org/event/bible-study-evening/2026-06-10/
LOCATION:https://sbcaa.org/event/bible-study-evening/2026-06-10/
ATTACH;FMTTYPE=image/jpeg:https://sbcaa.org/wp-content/uploads/2026/03/BibleStudy_Evening.jpg
END:VEVENT
BEGIN:VEVENT
DTSTART;TZID=America/Detroit:20260614T100000
DTEND;TZID=America/Detroit:20260614T120000
DTSTAMP:20260419T145912
CREATED:20260326T194806Z
LAST-MODIFIED:20260328T204427Z
UID:10000803-1781431200-1781438400@sbcaa.org
SUMMARY:Sunday Morning Worship
DESCRIPTION:Psalm 95:1 states “O come\, let us sing unto the Lord: ….”  Please join us each Sunday in person at 850 Red Oak\, Ann Arbor MI\, 48103.  Plenty of available spaces onsite for parking and come as you are.  Live streams are also available via YouTube or Facebook.
URL:https://sbcaa.org/event/sunday-morning-worship/2026-06-14/
LOCATION:Second Baptist Church of Ann Arbor\, 850 Red Oak Road\, Ann Arbor\, MI\, United States
ATTACH;FMTTYPE=image/jpeg:https://sbcaa.org/wp-content/uploads/2026/03/SBC-NEW-YT-BANNER-1920-x-1080-px-1.jpg
END:VEVENT
BEGIN:VEVENT
DTSTART;TZID=America/Detroit:20260614T100000
DTEND;TZID=America/Detroit:20260614T123000
DTSTAMP:20260419T145912
CREATED:20260418T013840Z
LAST-MODIFIED:20260418T014057Z
UID:10001056-1781431200-1781440200@sbcaa.org
SUMMARY:Graduation Sunday (Student Recognition)
DESCRIPTION:
URL:https://sbcaa.org/event/graduation-sunday-student-recognition/
LOCATION:Second Baptist Church of Ann Arbor\, 850 Red Oak Road\, Ann Arbor\, MI\, United States
ATTACH;FMTTYPE=image/jpeg:https://sbcaa.org/wp-content/uploads/2026/04/SBCAA-GRADUATION-SUNDAY.jpg
END:VEVENT
BEGIN:VEVENT
DTSTART;TZID=America/Detroit:20260617T070000
DTEND;TZID=America/Detroit:20260617T073000
DTSTAMP:20260419T145912
CREATED:20260326T184148Z
LAST-MODIFIED:20260327T105236Z
UID:10000020-1781679600-1781681400@sbcaa.org
SUMMARY:Wednesday Morning Check In
DESCRIPTION:Recharge your spiritual battery mid-week and join us by calling (302) 202-1102\, code 681750.\nMatthew 18:20 states that “For where two or three are gathered together in my name\, there am I in the midst of them”
URL:https://sbcaa.org/event/wednesday-morning-check-in/2026-06-17/
LOCATION:https://www.youtube.com/channel/UC1IR-bSbrAQd5I57px8K0MA/live
ATTACH;FMTTYPE=image/jpeg:https://sbcaa.org/wp-content/uploads/2021/03/WednesdayMorningCheckIn_YT_Graphic.jpg
ORGANIZER;CN="Dr. Steven J. Daniels%2C Sr.":MAILTO:pastor@sbcaa.org
END:VEVENT
BEGIN:VEVENT
DTSTART;TZID=America/Detroit:20260617T120000
DTEND;TZID=America/Detroit:20260617T130000
DTSTAMP:20260419T145912
CREATED:20260326T190628Z
LAST-MODIFIED:20260327T182419Z
UID:10000281-1781697600-1781701200@sbcaa.org
SUMMARY:Bible Study - noon
DESCRIPTION:
URL:https://sbcaa.org/event/bible-study-noon/2026-06-17/
LOCATION:https://sbcaa.org/event/bible-study-noon/2026-06-17/
ATTACH;FMTTYPE=image/jpeg:https://sbcaa.org/wp-content/uploads/2026/03/BibleStudy_Noon.jpg
END:VEVENT
BEGIN:VEVENT
DTSTART;TZID=America/Detroit:20260617T190000
DTEND;TZID=America/Detroit:20260617T200000
DTSTAMP:20260419T145912
CREATED:20260326T190826Z
LAST-MODIFIED:20260326T193520Z
UID:10000542-1781722800-1781726400@sbcaa.org
SUMMARY:Bible Study - evening
DESCRIPTION:
URL:https://sbcaa.org/event/bible-study-evening/2026-06-17/
LOCATION:https://sbcaa.org/event/bible-study-evening/2026-06-17/
ATTACH;FMTTYPE=image/jpeg:https://sbcaa.org/wp-content/uploads/2026/03/BibleStudy_Evening.jpg
END:VEVENT
BEGIN:VEVENT
DTSTART;TZID=America/Detroit:20260621T100000
DTEND;TZID=America/Detroit:20260621T120000
DTSTAMP:20260419T145912
CREATED:20260326T194806Z
LAST-MODIFIED:20260328T204427Z
UID:10000804-1782036000-1782043200@sbcaa.org
SUMMARY:Sunday Morning Worship
DESCRIPTION:Psalm 95:1 states “O come\, let us sing unto the Lord: ….”  Please join us each Sunday in person at 850 Red Oak\, Ann Arbor MI\, 48103.  Plenty of available spaces onsite for parking and come as you are.  Live streams are also available via YouTube or Facebook.
URL:https://sbcaa.org/event/sunday-morning-worship/2026-06-21/
LOCATION:Second Baptist Church of Ann Arbor\, 850 Red Oak Road\, Ann Arbor\, MI\, United States
ATTACH;FMTTYPE=image/jpeg:https://sbcaa.org/wp-content/uploads/2026/03/SBC-NEW-YT-BANNER-1920-x-1080-px-1.jpg
END:VEVENT
BEGIN:VEVENT
DTSTART;TZID=America/Detroit:20260624T070000
DTEND;TZID=America/Detroit:20260624T073000
DTSTAMP:20260419T145912
CREATED:20260326T184148Z
LAST-MODIFIED:20260327T105236Z
UID:10000021-1782284400-1782286200@sbcaa.org
SUMMARY:Wednesday Morning Check In
DESCRIPTION:Recharge your spiritual battery mid-week and join us by calling (302) 202-1102\, code 681750.\nMatthew 18:20 states that “For where two or three are gathered together in my name\, there am I in the midst of them”
URL:https://sbcaa.org/event/wednesday-morning-check-in/2026-06-24/
LOCATION:https://www.youtube.com/channel/UC1IR-bSbrAQd5I57px8K0MA/live
ATTACH;FMTTYPE=image/jpeg:https://sbcaa.org/wp-content/uploads/2021/03/WednesdayMorningCheckIn_YT_Graphic.jpg
ORGANIZER;CN="Dr. Steven J. Daniels%2C Sr.":MAILTO:pastor@sbcaa.org
END:VEVENT
BEGIN:VEVENT
DTSTART;TZID=America/Detroit:20260624T120000
DTEND;TZID=America/Detroit:20260624T130000
DTSTAMP:20260419T145913
CREATED:20260326T190628Z
LAST-MODIFIED:20260327T182419Z
UID:10000282-1782302400-1782306000@sbcaa.org
SUMMARY:Bible Study - noon
DESCRIPTION:
URL:https://sbcaa.org/event/bible-study-noon/2026-06-24/
LOCATION:https://sbcaa.org/event/bible-study-noon/2026-06-24/
ATTACH;FMTTYPE=image/jpeg:https://sbcaa.org/wp-content/uploads/2026/03/BibleStudy_Noon.jpg
END:VEVENT
BEGIN:VEVENT
DTSTART;TZID=America/Detroit:20260624T190000
DTEND;TZID=America/Detroit:20260624T200000
DTSTAMP:20260419T145913
CREATED:20260326T190826Z
LAST-MODIFIED:20260326T193520Z
UID:10000543-1782327600-1782331200@sbcaa.org
SUMMARY:Bible Study - evening
DESCRIPTION:
URL:https://sbcaa.org/event/bible-study-evening/2026-06-24/
LOCATION:https://sbcaa.org/event/bible-study-evening/2026-06-24/
ATTACH;FMTTYPE=image/jpeg:https://sbcaa.org/wp-content/uploads/2026/03/BibleStudy_Evening.jpg
END:VEVENT
END:VCALENDAR