BEGIN:VCALENDAR
VERSION:2.0
PRODID:-//Second Baptist Church of Ann Arbor - ECPv6.15.20//NONSGML v1.0//EN
CALSCALE:GREGORIAN
METHOD:PUBLISH
X-ORIGINAL-URL:https://sbcaa.org
X-WR-CALDESC:Events for Second Baptist Church of Ann Arbor
REFRESH-INTERVAL;VALUE=DURATION:PT1H
X-Robots-Tag:noindex
X-PUBLISHED-TTL:PT1H
BEGIN:VTIMEZONE
TZID:America/Detroit
BEGIN:DAYLIGHT
TZOFFSETFROM:-0500
TZOFFSETTO:-0400
TZNAME:EDT
DTSTART:20250309T070000
END:DAYLIGHT
BEGIN:STANDARD
TZOFFSETFROM:-0400
TZOFFSETTO:-0500
TZNAME:EST
DTSTART:20251102T060000
END:STANDARD
BEGIN:DAYLIGHT
TZOFFSETFROM:-0500
TZOFFSETTO:-0400
TZNAME:EDT
DTSTART:20260308T070000
END:DAYLIGHT
BEGIN:STANDARD
TZOFFSETFROM:-0400
TZOFFSETTO:-0500
TZNAME:EST
DTSTART:20261101T060000
END:STANDARD
BEGIN:DAYLIGHT
TZOFFSETFROM:-0500
TZOFFSETTO:-0400
TZNAME:EDT
DTSTART:20270314T070000
END:DAYLIGHT
BEGIN:STANDARD
TZOFFSETFROM:-0400
TZOFFSETTO:-0500
TZNAME:EST
DTSTART:20271107T060000
END:STANDARD
END:VTIMEZONE
BEGIN:VEVENT
DTSTART;TZID=America/Detroit:20260408T190000
DTEND;TZID=America/Detroit:20260408T200000
DTSTAMP:20260419T210731
CREATED:20260326T190826Z
LAST-MODIFIED:20260326T193520Z
UID:10000532-1775674800-1775678400@sbcaa.org
SUMMARY:Bible Study - evening
DESCRIPTION:
URL:https://sbcaa.org/event/bible-study-evening/2026-04-08/
LOCATION:https://sbcaa.org/event/bible-study-evening/2026-04-08/
ATTACH;FMTTYPE=image/jpeg:https://sbcaa.org/wp-content/uploads/2026/03/BibleStudy_Evening.jpg
END:VEVENT
BEGIN:VEVENT
DTSTART;TZID=America/Detroit:20260408T120000
DTEND;TZID=America/Detroit:20260408T130000
DTSTAMP:20260419T210731
CREATED:20260326T190628Z
LAST-MODIFIED:20260327T182419Z
UID:10000271-1775649600-1775653200@sbcaa.org
SUMMARY:Bible Study - noon
DESCRIPTION:
URL:https://sbcaa.org/event/bible-study-noon/2026-04-08/
LOCATION:https://sbcaa.org/event/bible-study-noon/2026-04-08/
ATTACH;FMTTYPE=image/jpeg:https://sbcaa.org/wp-content/uploads/2026/03/BibleStudy_Noon.jpg
END:VEVENT
BEGIN:VEVENT
DTSTART;TZID=America/Detroit:20260408T070000
DTEND;TZID=America/Detroit:20260408T073000
DTSTAMP:20260419T210731
CREATED:20260326T184148Z
LAST-MODIFIED:20260327T105236Z
UID:10000010-1775631600-1775633400@sbcaa.org
SUMMARY:Wednesday Morning Check In
DESCRIPTION:Recharge your spiritual battery mid-week and join us by calling (302) 202-1102\, code 681750.\nMatthew 18:20 states that “For where two or three are gathered together in my name\, there am I in the midst of them”
URL:https://sbcaa.org/event/wednesday-morning-check-in/2026-04-08/
LOCATION:
ATTACH;FMTTYPE=image/jpeg:https://sbcaa.org/wp-content/uploads/2021/03/WednesdayMorningCheckIn_YT_Graphic.jpg
ORGANIZER;CN="Dr. Steven J. Daniels%2C Sr.":MAILTO:pastor@sbcaa.org
END:VEVENT
BEGIN:VEVENT
DTSTART;TZID=America/Detroit:20260405T100000
DTEND;TZID=America/Detroit:20260405T120000
DTSTAMP:20260419T210731
CREATED:20260326T194806Z
LAST-MODIFIED:20260328T204427Z
UID:10000793-1775383200-1775390400@sbcaa.org
SUMMARY:Sunday Morning Worship
DESCRIPTION:Psalm 95:1 states “O come\, let us sing unto the Lord: ….”  Please join us each Sunday in person at 850 Red Oak\, Ann Arbor MI\, 48103.  Plenty of available spaces onsite for parking and come as you are.  Live streams are also available via YouTube or Facebook.
URL:https://sbcaa.org/event/sunday-morning-worship/2026-04-05/
LOCATION:Second Baptist Church of Ann Arbor\, 850 Red Oak Road\, Ann Arbor\, MI\, United States
ATTACH;FMTTYPE=image/jpeg:https://sbcaa.org/wp-content/uploads/2026/03/SBC-NEW-YT-BANNER-1920-x-1080-px-1.jpg
END:VEVENT
BEGIN:VEVENT
DTSTART;TZID=America/Detroit:20260405T090000
DTEND;TZID=America/Detroit:20260405T093000
DTSTAMP:20260419T210731
CREATED:20260326T205012Z
LAST-MODIFIED:20260327T105128Z
UID:10001053-1775379600-1775381400@sbcaa.org
SUMMARY:Truth Is: A Resurrection Sunday play by Rev. Patricia Byrd
DESCRIPTION:Please join us for our annual Resurrection Sunday play
URL:https://sbcaa.org/event/truth-is-a-resurrection-sunday-play-by-rev-patricia-byrd/
LOCATION:Second Baptist Church of Ann Arbor\, 850 Red Oak Road\, Ann Arbor\, MI\, United States
ATTACH;FMTTYPE=image/jpeg:https://sbcaa.org/wp-content/uploads/2026/03/TruthIs_PlayFromRevPat_FINAL.jpg
ORGANIZER;CN="Dr. Steven J. Daniels%2C Sr.":MAILTO:pastor@sbcaa.org
END:VEVENT
BEGIN:VEVENT
DTSTART;TZID=America/Detroit:20260401T190000
DTEND;TZID=America/Detroit:20260401T200000
DTSTAMP:20260419T210731
CREATED:20260326T190826Z
LAST-MODIFIED:20260326T193520Z
UID:10000531-1775070000-1775073600@sbcaa.org
SUMMARY:Bible Study - evening
DESCRIPTION:
URL:https://sbcaa.org/event/bible-study-evening/2026-04-01/
LOCATION:https://sbcaa.org/event/bible-study-evening/2026-04-01/
ATTACH;FMTTYPE=image/jpeg:https://sbcaa.org/wp-content/uploads/2026/03/BibleStudy_Evening.jpg
END:VEVENT
BEGIN:VEVENT
DTSTART;TZID=America/Detroit:20260401T120000
DTEND;TZID=America/Detroit:20260401T130000
DTSTAMP:20260419T210731
CREATED:20260326T190628Z
LAST-MODIFIED:20260327T182419Z
UID:10000270-1775044800-1775048400@sbcaa.org
SUMMARY:Bible Study - noon
DESCRIPTION:
URL:https://sbcaa.org/event/bible-study-noon/2026-04-01/
LOCATION:https://sbcaa.org/event/bible-study-noon/2026-04-01/
ATTACH;FMTTYPE=image/jpeg:https://sbcaa.org/wp-content/uploads/2026/03/BibleStudy_Noon.jpg
END:VEVENT
BEGIN:VEVENT
DTSTART;TZID=America/Detroit:20260401T070000
DTEND;TZID=America/Detroit:20260401T073000
DTSTAMP:20260419T210731
CREATED:20260326T184148Z
LAST-MODIFIED:20260327T105236Z
UID:10000009-1775026800-1775028600@sbcaa.org
SUMMARY:Wednesday Morning Check In
DESCRIPTION:Recharge your spiritual battery mid-week and join us by calling (302) 202-1102\, code 681750.\nMatthew 18:20 states that “For where two or three are gathered together in my name\, there am I in the midst of them”
URL:https://sbcaa.org/event/wednesday-morning-check-in/2026-04-01/
LOCATION:
ATTACH;FMTTYPE=image/jpeg:https://sbcaa.org/wp-content/uploads/2021/03/WednesdayMorningCheckIn_YT_Graphic.jpg
ORGANIZER;CN="Dr. Steven J. Daniels%2C Sr.":MAILTO:pastor@sbcaa.org
END:VEVENT
BEGIN:VEVENT
DTSTART;TZID=America/Detroit:20260329T100000
DTEND;TZID=America/Detroit:20260329T120000
DTSTAMP:20260419T210731
CREATED:20260326T194806Z
LAST-MODIFIED:20260328T204427Z
UID:10000792-1774778400-1774785600@sbcaa.org
SUMMARY:Sunday Morning Worship
DESCRIPTION:Psalm 95:1 states “O come\, let us sing unto the Lord: ….”  Please join us each Sunday in person at 850 Red Oak\, Ann Arbor MI\, 48103.  Plenty of available spaces onsite for parking and come as you are.  Live streams are also available via YouTube or Facebook.
URL:https://sbcaa.org/event/sunday-morning-worship/2026-03-29/
LOCATION:Second Baptist Church of Ann Arbor\, 850 Red Oak Road\, Ann Arbor\, MI\, United States
ATTACH;FMTTYPE=image/jpeg:https://sbcaa.org/wp-content/uploads/2026/03/SBC-NEW-YT-BANNER-1920-x-1080-px-1.jpg
END:VEVENT
END:VCALENDAR