BEGIN:VCALENDAR
VERSION:2.0
PRODID:-//Second Baptist Church of Ann Arbor - ECPv6.15.20//NONSGML v1.0//EN
CALSCALE:GREGORIAN
METHOD:PUBLISH
X-WR-CALNAME:Second Baptist Church of Ann Arbor
X-ORIGINAL-URL:https://sbcaa.org
X-WR-CALDESC:Events for Second Baptist Church of Ann Arbor
REFRESH-INTERVAL;VALUE=DURATION:PT1H
X-Robots-Tag:noindex
X-PUBLISHED-TTL:PT1H
BEGIN:VTIMEZONE
TZID:America/Detroit
BEGIN:DAYLIGHT
TZOFFSETFROM:-0500
TZOFFSETTO:-0400
TZNAME:EDT
DTSTART:20250309T070000
END:DAYLIGHT
BEGIN:STANDARD
TZOFFSETFROM:-0400
TZOFFSETTO:-0500
TZNAME:EST
DTSTART:20251102T060000
END:STANDARD
BEGIN:DAYLIGHT
TZOFFSETFROM:-0500
TZOFFSETTO:-0400
TZNAME:EDT
DTSTART:20260308T070000
END:DAYLIGHT
BEGIN:STANDARD
TZOFFSETFROM:-0400
TZOFFSETTO:-0500
TZNAME:EST
DTSTART:20261101T060000
END:STANDARD
BEGIN:DAYLIGHT
TZOFFSETFROM:-0500
TZOFFSETTO:-0400
TZNAME:EDT
DTSTART:20270314T070000
END:DAYLIGHT
BEGIN:STANDARD
TZOFFSETFROM:-0400
TZOFFSETTO:-0500
TZNAME:EST
DTSTART:20271107T060000
END:STANDARD
END:VTIMEZONE
BEGIN:VEVENT
DTSTART;TZID=America/Detroit:20260503T100000
DTEND;TZID=America/Detroit:20260503T120000
DTSTAMP:20260419T162411
CREATED:20260326T194806Z
LAST-MODIFIED:20260328T204427Z
UID:10000797-1777802400-1777809600@sbcaa.org
SUMMARY:Sunday Morning Worship
DESCRIPTION:Psalm 95:1 states “O come\, let us sing unto the Lord: ….”  Please join us each Sunday in person at 850 Red Oak\, Ann Arbor MI\, 48103.  Plenty of available spaces onsite for parking and come as you are.  Live streams are also available via YouTube or Facebook.
URL:https://sbcaa.org/event/sunday-morning-worship/2026-05-03/
LOCATION:Second Baptist Church of Ann Arbor\, 850 Red Oak Road\, Ann Arbor\, MI\, United States
ATTACH;FMTTYPE=image/jpeg:https://sbcaa.org/wp-content/uploads/2026/03/SBC-NEW-YT-BANNER-1920-x-1080-px-1.jpg
END:VEVENT
END:VCALENDAR